BEGIN:VCALENDAR
VERSION:2.0
PRODID:-//We Distribute - ECPv6.15.20//NONSGML v1.0//EN
CALSCALE:GREGORIAN
METHOD:PUBLISH
X-ORIGINAL-URL:https://wedistribute.org
X-WR-CALDESC:Events for We Distribute
REFRESH-INTERVAL;VALUE=DURATION:PT1H
X-Robots-Tag:noindex
X-PUBLISHED-TTL:PT1H
BEGIN:VTIMEZONE
TZID:America/New_York
BEGIN:DAYLIGHT
TZOFFSETFROM:-0500
TZOFFSETTO:-0400
TZNAME:EDT
DTSTART:20250309T070000
END:DAYLIGHT
BEGIN:STANDARD
TZOFFSETFROM:-0400
TZOFFSETTO:-0500
TZNAME:EST
DTSTART:20251102T060000
END:STANDARD
BEGIN:DAYLIGHT
TZOFFSETFROM:-0500
TZOFFSETTO:-0400
TZNAME:EDT
DTSTART:20260308T070000
END:DAYLIGHT
BEGIN:STANDARD
TZOFFSETFROM:-0400
TZOFFSETTO:-0500
TZNAME:EST
DTSTART:20261101T060000
END:STANDARD
BEGIN:DAYLIGHT
TZOFFSETFROM:-0500
TZOFFSETTO:-0400
TZNAME:EDT
DTSTART:20270314T070000
END:DAYLIGHT
BEGIN:STANDARD
TZOFFSETFROM:-0400
TZOFFSETTO:-0500
TZNAME:EST
DTSTART:20271107T060000
END:STANDARD
END:VTIMEZONE
BEGIN:VTIMEZONE
TZID:America/Vancouver
BEGIN:DAYLIGHT
TZOFFSETFROM:-0800
TZOFFSETTO:-0700
TZNAME:PDT
DTSTART:20240310T100000
END:DAYLIGHT
BEGIN:STANDARD
TZOFFSETFROM:-0700
TZOFFSETTO:-0800
TZNAME:PST
DTSTART:20241103T090000
END:STANDARD
BEGIN:DAYLIGHT
TZOFFSETFROM:-0800
TZOFFSETTO:-0700
TZNAME:PDT
DTSTART:20250309T100000
END:DAYLIGHT
BEGIN:STANDARD
TZOFFSETFROM:-0700
TZOFFSETTO:-0800
TZNAME:PST
DTSTART:20251102T090000
END:STANDARD
BEGIN:DAYLIGHT
TZOFFSETFROM:-0800
TZOFFSETTO:-0700
TZNAME:PDT
DTSTART:20260308T100000
END:DAYLIGHT
BEGIN:STANDARD
TZOFFSETFROM:-0700
TZOFFSETTO:-0800
TZNAME:PST
DTSTART:20261101T090000
END:STANDARD
END:VTIMEZONE
BEGIN:VTIMEZONE
TZID:America/Phoenix
BEGIN:STANDARD
TZOFFSETFROM:-0700
TZOFFSETTO:-0700
TZNAME:MST
DTSTART:20240101T000000
END:STANDARD
END:VTIMEZONE
BEGIN:VTIMEZONE
TZID:Europe/Copenhagen
BEGIN:DAYLIGHT
TZOFFSETFROM:+0100
TZOFFSETTO:+0200
TZNAME:CEST
DTSTART:20240331T010000
END:DAYLIGHT
BEGIN:STANDARD
TZOFFSETFROM:+0200
TZOFFSETTO:+0100
TZNAME:CET
DTSTART:20241027T010000
END:STANDARD
BEGIN:DAYLIGHT
TZOFFSETFROM:+0100
TZOFFSETTO:+0200
TZNAME:CEST
DTSTART:20250330T010000
END:DAYLIGHT
BEGIN:STANDARD
TZOFFSETFROM:+0200
TZOFFSETTO:+0100
TZNAME:CET
DTSTART:20251026T010000
END:STANDARD
BEGIN:DAYLIGHT
TZOFFSETFROM:+0100
TZOFFSETTO:+0200
TZNAME:CEST
DTSTART:20260329T010000
END:DAYLIGHT
BEGIN:STANDARD
TZOFFSETFROM:+0200
TZOFFSETTO:+0100
TZNAME:CET
DTSTART:20261025T010000
END:STANDARD
END:VTIMEZONE
BEGIN:VTIMEZONE
TZID:Asia/Tokyo
BEGIN:STANDARD
TZOFFSETFROM:+0900
TZOFFSETTO:+0900
TZNAME:JST
DTSTART:20230101T000000
END:STANDARD
END:VTIMEZONE
BEGIN:VTIMEZONE
TZID:America/Los_Angeles
BEGIN:DAYLIGHT
TZOFFSETFROM:-0800
TZOFFSETTO:-0700
TZNAME:PDT
DTSTART:20230312T100000
END:DAYLIGHT
BEGIN:STANDARD
TZOFFSETFROM:-0700
TZOFFSETTO:-0800
TZNAME:PST
DTSTART:20231105T090000
END:STANDARD
BEGIN:DAYLIGHT
TZOFFSETFROM:-0800
TZOFFSETTO:-0700
TZNAME:PDT
DTSTART:20240310T100000
END:DAYLIGHT
BEGIN:STANDARD
TZOFFSETFROM:-0700
TZOFFSETTO:-0800
TZNAME:PST
DTSTART:20241103T090000
END:STANDARD
BEGIN:DAYLIGHT
TZOFFSETFROM:-0800
TZOFFSETTO:-0700
TZNAME:PDT
DTSTART:20250309T100000
END:DAYLIGHT
BEGIN:STANDARD
TZOFFSETFROM:-0700
TZOFFSETTO:-0800
TZNAME:PST
DTSTART:20251102T090000
END:STANDARD
END:VTIMEZONE
BEGIN:VTIMEZONE
TZID:Europe/Riga
BEGIN:DAYLIGHT
TZOFFSETFROM:+0200
TZOFFSETTO:+0300
TZNAME:EEST
DTSTART:20230326T010000
END:DAYLIGHT
BEGIN:STANDARD
TZOFFSETFROM:+0300
TZOFFSETTO:+0200
TZNAME:EET
DTSTART:20231029T010000
END:STANDARD
BEGIN:DAYLIGHT
TZOFFSETFROM:+0200
TZOFFSETTO:+0300
TZNAME:EEST
DTSTART:20240331T010000
END:DAYLIGHT
BEGIN:STANDARD
TZOFFSETFROM:+0300
TZOFFSETTO:+0200
TZNAME:EET
DTSTART:20241027T010000
END:STANDARD
BEGIN:DAYLIGHT
TZOFFSETFROM:+0200
TZOFFSETTO:+0300
TZNAME:EEST
DTSTART:20250330T010000
END:DAYLIGHT
BEGIN:STANDARD
TZOFFSETFROM:+0300
TZOFFSETTO:+0200
TZNAME:EET
DTSTART:20251026T010000
END:STANDARD
END:VTIMEZONE
BEGIN:VEVENT
DTSTART;TZID=America/New_York:20260224T080000
DTEND;TZID=America/New_York:20260224T210000
DTSTAMP:20260422T052411
CREATED:20260221T040424Z
LAST-MODIFIED:20260221T040513Z
UID:158641-1771920000-1771966800@wedistribute.org
SUMMARY:FediMTL 2026
DESCRIPTION:Note: This event is not organized by or affiliated with We Distribute in any way. We are merely sharing this account on our federated event calendar to pass on event information to interested parties. \n\n\n\n\n\n\n\nFor updates on this event\, please follow FediMTL on GotoSocial. \n\n\n\nFediMTL brings international and Canadian leaders to Montreal for a full day of talks and discussions focused on digital sovereignty and the future of the open social web. \n\n\n\n \n\n\n\nCo-presented by the Social Web Foundation\, Qlub\, and FediHost\, the event is designed for developers\, creators\, journalists\, policymakers\, and citizens who want to better understand how the fediverse — a decentralized technology — enables people and communities to regain control over their data\, support local digital infrastructure\, and build interoperable\, sustainable online communities. \n\n\n\n \n\n\n\nUnder the theme “An Independent Digital Future\,” FediMTL will feature conferences\, panels\, and exchanges with key figures from the social web ecosystem\, including co-authors of the ActivityPub protocol\, open-source platform developers\, and leaders working in public-interest digital innovation. \n\n\n\n \n\n\n\nThe event will take place with seated audiences and will also be available via live webcast. \n\n\n\n\n\n\n\nIn-person tickets: $50 + tax (includes lunch and coffee breaks) \n\n\n\nVirtual tickets: $20 + tax — click here \n\n\n\nTickets at the door: $65 + tax (includes lunch and coffee breaks)
URL:https://wedistribute.org/event/fedimtl-2026/
LOCATION:Le Ministère\, 4521\, boul. Saint-Laurent\, Montréal\, QC\, Canada
CATEGORIES:Conferences
ATTACH;FMTTYPE=image/png:https://wedistribute.org/wp-content/uploads/2026/02/mns260224001-1152x648-en-69792727.png
ORGANIZER;CN="Le Ministere":MAILTO:info@leministere.ca
END:VEVENT
BEGIN:VEVENT
DTSTART;TZID=America/Vancouver:20250801T080000
DTEND;TZID=America/Vancouver:20250802T170000
DTSTAMP:20260422T052411
CREATED:20250709T020702Z
LAST-MODIFIED:20250709T020908Z
UID:69740-1754035200-1754154000@wedistribute.org
SUMMARY:FediCon 2025
DESCRIPTION:FediCon is a Canadian conference for decentralized social networks and the Social Web\, with a particular emphasis on the Fediverse. Come check out lightning talks\, demos\, and curated speakers\, and meet some of the people building the latest technologies to bring the network forward! \n\n\n\nIf you would like to present at FediCon 2025\, please reach out to: hello@fedicon.ca
URL:https://wedistribute.org/event/fedicon-2025/
LOCATION:UBC Robson Square\, 800 Robson Street\, Vancouver\, V6Z 3B7\, Canada
CATEGORIES:Conferences
ATTACH;FMTTYPE=image/png:https://wedistribute.org/wp-content/uploads/2025/07/fedicon-event.png
ORGANIZER;CN="FediCon":MAILTO:hello@fedicon.ca
END:VEVENT
BEGIN:VEVENT
DTSTART;TZID=America/Phoenix:20250605T080000
DTEND;TZID=America/Phoenix:20250607T170000
DTSTAMP:20260422T052411
CREATED:20250528T230018Z
LAST-MODIFIED:20250528T230027Z
UID:62444-1749110400-1749315600@wedistribute.org
SUMMARY:FediForum June 2025
DESCRIPTION:FediForum\, the network-wide unconference for Fedizens\, is back! The event has undergone a radical transformation to be more inclusive\, with a diverse advisory board helping to build a safe and respectful space for attendees. Watch the latest presentations from the people building the network\, participate in supportive discussions about what the Social Web currently needs\, and watch cool demos from the latest apps and platforms! \n\n\n\nThursday\, June 58:00 am to 1:00 pm pacific time (UTC-7) Keynote: Ian ForresterKeynote: Cory Doctorow Software speed demos Orientation session: What’s new in the Open Social Web? Collaborative agenda making and unconference sessionsFriday\, June 68:00 am to 1:00 pm pacific time (UTC-7) Keynote: Christine Lemmer-Webber Collaborative agenda making and unconference sessionsSaturday\, June 78:00 am to 1:00 pm pacific time (UTC-7) Software speed demos Collaborative agenda making and unconference sessions\n\n\n\nCheck this page for a comprehensive schedule breakdown for each day! The unconference format allows attendees to help set the schedule for discussions and presentations. \n\n\nPricing\n\n\nFediForum offers the following price packages for admission: \n\n\n\nPackagePriceGeneral Admission$40.00 + $3.29 fee(Almost) Free Ticket$0.67 + $1.32 feeContributor Ticket (support the community)$100.00 + $6.29 feePlatform Employee Ticket$250.00 + $13.79 fee
URL:https://wedistribute.org/event/fediforum-june-2025/
LOCATION:QC
CATEGORIES:Conferences
ATTACH;FMTTYPE=image/png:https://wedistribute.org/wp-content/uploads/2025/05/fediforum-june-2025.png
ORGANIZER;CN="FediForum":MAILTO:fediforum@proton.me
END:VEVENT
BEGIN:VEVENT
DTSTART;TZID=Europe/Copenhagen:20250422T080000
DTEND;TZID=Europe/Copenhagen:20250426T160000
DTSTAMP:20260422T052411
CREATED:20240823T211613Z
LAST-MODIFIED:20240823T230229Z
UID:10149-1745308800-1745683200@wedistribute.org
SUMMARY:ATypl Copenhagen 2025
DESCRIPTION:ATypI\, also referred to as Association Typographique Internationale\, is an international non-profit organization dedicated to typography and type design. The organization runs a global fonts and typography conference that has been held annually since 1957. The 2025 conference is set in Copenhagen\, with a venue located at the Royal Danish Academy\, located by the harbor and the famous Refshaleøen. \n\n\n\nStay tuned for details on tickets\, the call for proposals\, sponsorship opportunities\, and much more.
URL:https://wedistribute.org/event/atypl-copenhagen-2025/
LOCATION:Royal Danish Academy\, Philip De Langes Allé 10\, Copenhagen\, 1435\, Denmark
CATEGORIES:Conferences
ATTACH;FMTTYPE=image/png:https://wedistribute.org/wp-content/uploads/2024/08/atypi-2025-preview.png
END:VEVENT
BEGIN:VEVENT
DTSTART;TZID=Asia/Tokyo:20240923T123000
DTEND;TZID=Asia/Tokyo:20240923T210000
DTSTAMP:20260422T052411
CREATED:20240823T222456Z
LAST-MODIFIED:20240823T230224Z
UID:10181-1727094600-1727125200@wedistribute.org
SUMMARY:NostrAsia 2024
DESCRIPTION:NostrAsia is an annual Nostr Unconference organized by Nostr.World\, with a focus on bringing together friends\, acquaintances\, and like-minded Nostr supporters into a single venue to hang out\, get to know each other\, and talk shop. Tickets for this event are free!
URL:https://wedistribute.org/event/nostrasia-2024/
LOCATION:Crypto Lounge GOX\, Tenam Town Building 6F\, Tokyo\, Shinjuku City\, Kabukicho\, 2 Chome−19−15 6階\, 〒160-0021\, Japan
CATEGORIES:Conferences
ATTACH;FMTTYPE=image/png:https://wedistribute.org/wp-content/uploads/2024/08/nostrasia-2024.png
END:VEVENT
BEGIN:VEVENT
DTSTART;TZID=America/Los_Angeles:20240912T080000
DTEND;TZID=America/Los_Angeles:20240914T130000
DTSTAMP:20260422T052411
CREATED:20240823T182102Z
LAST-MODIFIED:20240823T201311Z
UID:10100-1726128000-1726318800@wedistribute.org
SUMMARY:September 2024 FediForum
DESCRIPTION:Breaking walled gardens open and connecting them into the free\, open and decentralized social network called the Fediverse is the largest change to social networking ever. \n\n\n\nIt is already changing how millions of people interact online\, major organizations are changing their strategies\, and we have barely started! \n\n\nTicket Pricing\n\n\nThere are a number of different tiers for FediForum tickets\, check the overview below. \n\n\n\n\n$1.99 – Almost Free Ticket: This ticket is for Fedi folk for whom the general ticket is too expensive. It is sponsored by attendees who are purchasing a Contributor Ticket. We will make more tickets available in this class as more Contributors sign up.\n\n\n\n$40 – General Ticket: This ticket pays for regular attendance by a single individual.\n\n\n\n$100 – Contributor Ticket: Your extra dollars allow us to offer (almost) free tickets to Fedi folk who cannot afford regular tickets.\n\n\n\n$250 – Platform Employee Ticket: Choose this ticket if you work for a major organization and you are coming to FediForum as part of your work.\n\n\n\n\n\n\n\n\nThe FediForum online unconference brings the people together who are making it happen.Join us?
URL:https://wedistribute.org/event/september-2024-fediforum/
LOCATION:QC
CATEGORIES:Conferences
ATTACH;FMTTYPE=image/png:https://wedistribute.org/wp-content/uploads/2024/08/fediforum2024.png
ORGANIZER;CN="FediForum":MAILTO:fediforum@proton.me
END:VEVENT
BEGIN:VEVENT
DTSTART;TZID=Europe/Riga:20240822T080000
DTEND;TZID=Europe/Riga:20240823T170000
DTSTAMP:20260422T052412
CREATED:20240731T215000Z
LAST-MODIFIED:20240823T230146Z
UID:10172-1724313600-1724432400@wedistribute.org
SUMMARY:NostRiga 2024
DESCRIPTION:Nostr.World Unconference 3rd Edition\n\n\nNostriga is part of the “nostr.world unconference” series\, now in its third edition. It’s a cost-free event aimed at gathering nostriches globally to share knowledge\, collaborate\, and work towards a freely accessible internet. \n\n\n\nAll updates regarding the Unconference will be communicated through Notes on the Official Nostriga account or via direct messages (DM) from the Nostriga official account. The npub for the official Nostriga account is npub1nstrcu63lzpjkz94djajuz2evrgu2psd66cwgc0gz0c0qazezx0q9urg5l. \n\n\n\nTickets will be sent out on August 1st\, 2024. Expect a direct message on your nostr account with the details.
URL:https://wedistribute.org/event/nostriga-2024/
LOCATION:Fantadroms\, Conference Center\, Gustava Zemgala gat. 76\, Vidzemes priekšpilsēta\, Riga\, LV-1039\, Latvia
CATEGORIES:Conferences
ATTACH;FMTTYPE=image/png:https://wedistribute.org/wp-content/uploads/2024/07/nostriga-2024.png
END:VEVENT
END:VCALENDAR